Workbook

Sheet Instrucciones
A1: XII Carrera contra el Cáncer de Páncreas · Alicante 2026 — Inscripción grupal
A3: ¿Cómo funciona?
A4: 1 | B4: Descarga esta hoja de Excel.
A5: 2 | B5: Cumplimenta la pestaña «Inscripciones» con los datos de todos los participantes (celdas amarillas). La hoja calcula automáticamente el importe a ingresar.
A6: 3 | B6: Realiza el ingreso del importe total en la cuenta que figura más abajo, en «Datos para realizar el ingreso».
A7: 4 | B7: Envía el justificante de ingreso junto con este Excel de inscritos a eventos@grupobrotons.com (asunto: INSCRIPCION GRUPAL).
A8: 5 | B8: Te confirmaremos la inscripción cuando se introduzcan los datos de los corredores en el programa de la organización.
A10: Datos importantes
B11: Fecha fin de inscripciones grupales | C11: Lunes 16 de noviembre de 2026
B12: Enviar justificante y Excel a | C12: eventos@grupobrotons.com
B13: Asunto del email | C13: INSCRIPCION GRUPAL
B14: Todos los detalles del evento | C14: https://grupobrotons.com/event/xii-carrera-contra-el-cancer-de-pancreas-alicante-2026/
B15: Destino del importe | C15: El 100% del dorsal es para la investigación contra el cáncer de páncreas
A17: Datos para realizar el ingreso
B18: IBAN | C18: ES83 0182 6138 1702 01521669
B19: SWIFT CODE | C19: BBVAESMM
B20: TITULAR | C20: ASOCIACION CANCER DE PANCREAS
B21: Concepto sugerido | C21: INSCRIPCION GRUPAL + nombre del club / empresa / grupo / hoguera
B22: IMPORTE A INGRESAR | C22: =Inscripciones!O2 -> 0
A24: Precios por inscripción
B25: Modalidad | C25: Precio (€)
B26: CARRERA | C26: 14.8
B27: ANDARIN | C27: 14.8
B28: ANDARIN CON MASCOTA | C28: 16.8
B29: MARCHA NORDIKA | C29: 14.8
B30: CARR. INFANTILES | C30: 10.8
B31: Precios indicados por Grupo Brotons: 14,80 € Carrera, Andarín y Marcha nórdica (5 km) · 16,80 € Andarín con mascota (5 km) · 10,80 € Carreras infantiles (distancias por edades). 0,80€ de cada inscripción está destinado a gastos de gestión.
A33: Notas y ejemplo
B34: Celdas amarillas = las que debes rellenar. No modifiques los encabezados de la pestaña «Inscripciones».
B35: Ejemplo de fila: CARRERA · María · García López · 12345678Z · 15/03/1985 · F · maria@email.com · Hoguera Ejemplo · Alicante · Alicante · M
B36: Menores de 18 años: es imprescindible entregar la autorización paterna para recoger el dorsal.

Sheet Inscripciones
A1: MODALIDAD | B1: NOMBRE | C1: APELLIDOS | D1: DNI-NIE-Pasaporte | E1: FECHA NACIMIENTO | F1: SEXO | G1: EMAIL | H1: CLUB/EMPRESA/HOGUERA/ASOCIACIÓN | I1: POBLACION | J1: PROVINCIA | K1: TALLA DE CAMISETA | L1: IMPORTE (€) | N1: Nº de participantes | O1: =COUNTA(A2:A201) -> 1
A2: ANDARIN | B2: MARIA | C2: GARCIA LOPEZ | D2: 12345678A | E2: 37205 | F2: F | G2: anagarcia@email.com | H2: Hoguera ejemplo Alicante | I2: Alicante | J2: Alicante | K2: M | L2: =IF(A2="","",IFERROR(INDEX(Instrucciones!$C$26:$C$30,MATCH(A2,Instrucciones!$B$26:$B$30,0)),"")) -> 14.8 | N2: IMPORTE A INGRESAR | O2: =SUM(L3:L201) -> 0
L3: =IF(A3="","",IFERROR(INDEX(Instrucciones!$C$26:$C$30,MATCH(A3,Instrucciones!$B$26:$B$30,0)),"")) | N3: Datos de ingreso en la pestaña «Instrucciones»
L4: =IF(A4="","",IFERROR(INDEX(Instrucciones!$C$26:$C$30,MATCH(A4,Instrucciones!$B$26:$B$30,0)),""))
L5: =IF(A5="","",IFERROR(INDEX(Instrucciones!$C$26:$C$30,MATCH(A5,Instrucciones!$B$26:$B$30,0)),""))
L6: =IF(A6="","",IFERROR(INDEX(Instrucciones!$C$26:$C$30,MATCH(A6,Instrucciones!$B$26:$B$30,0)),""))
L7: =IF(A7="","",IFERROR(INDEX(Instrucciones!$C$26:$C$30,MATCH(A7,Instrucciones!$B$26:$B$30,0)),""))
L8: =IF(A8="","",IFERROR(INDEX(Instrucciones!$C$26:$C$30,MATCH(A8,Instrucciones!$B$26:$B$30,0)),""))
L9: =IF(A9="","",IFERROR(INDEX(Instrucciones!$C$26:$C$30,MATCH(A9,Instrucciones!$B$26:$B$30,0)),""))
L10: =IF(A10="","",IFERROR(INDEX(Instrucciones!$C$26:$C$30,MATCH(A10,Instrucciones!$B$26:$B$30,0)),""))
L11: =IF(A11="","",IFERROR(INDEX(Instrucciones!$C$26:$C$30,MATCH(A11,Instrucciones!$B$26:$B$30,0)),""))
L12: =IF(A12="","",IFERROR(INDEX(Instrucciones!$C$26:$C$30,MATCH(A12,Instrucciones!$B$26:$B$30,0)),""))
L13: =IF(A13="","",IFERROR(INDEX(Instrucciones!$C$26:$C$30,MATCH(A13,Instrucciones!$B$26:$B$30,0)),""))
L14: =IF(A14="","",IFERROR(INDEX(Instrucciones!$C$26:$C$30,MATCH(A14,Instrucciones!$B$26:$B$30,0)),""))
L15: =IF(A15="","",IFERROR(INDEX(Instrucciones!$C$26:$C$30,MATCH(A15,Instrucciones!$B$26:$B$30,0)),""))
... L201: =IF(A201="","",IFERROR(INDEX(Instrucciones!$C$26:$C$30,MATCH(A201,Instrucciones!$B$26:$B$30,0)),""))
